BEGIN:VCALENDAR
VERSION:2.0
PRODID:-//CERN//INDICO//EN
BEGIN:VEVENT
SUMMARY:IBS-RIKEN Joint Workshop on Physics −from nuclear physics to con
 densed matter physics−
DTSTART:20260119T004500Z
DTEND:20260121T030000Z
DTSTAMP:20260421T031000Z
UID:indico-event-5542@indico2.riken.jp
DESCRIPTION:https://indico2.riken.jp/event/5542/
LOCATION:B109 (IBS HQ builiding)
URL:https://indico2.riken.jp/event/5542/
END:VEVENT
END:VCALENDAR
